BEGIN:VCALENDAR
VERSION:2.0
PRODID:icalendar-ruby
CALSCALE:GREGORIAN
METHOD:PUBLISH
BEGIN:VEVENT
DTSTAMP:20260423T041412Z
UID:7-412052@pvgbc.church
DTSTART:20260927T174500Z
DTEND:20260927T193000Z
CLASS:PUBLIC
CREATED:20260422T185411
DESCRIPTION:Worship God with us and feel His presence.  
LAST-MODIFIED:20260422T185411
LOCATION:201 Missouri Street\, Risco\, MO. 63874
SUMMARY:Worship
URL;VALUE=URI:https://pvgbc.church/events/worship/2026-09-27
ATTACH;FILENAME=worship.jpg;FMTTYPE=image/jpeg:https://dq5pwpg1q8ru0.cloudf
 ront.net/2021/10/14/12/20/58/05e5eb37-e4be-4e5a-84af-d3411904c1d7/worship.
 jpg
END:VEVENT
END:VCALENDAR
