BEGIN:VCALENDAR
VERSION:2.0
PRODID:icalendar-ruby
CALSCALE:GREGORIAN
METHOD:PUBLISH
BEGIN:VEVENT
DTSTAMP:20260423T113806Z
UID:7-412321@pvgbc.church
DTSTART:20261101T184500Z
DTEND:20261101T203000Z
CLASS:PUBLIC
CREATED:20260423T042346
DESCRIPTION:Worship God with us and feel His presence.  
LAST-MODIFIED:20260423T042346
LOCATION:201 Missouri Street\, Risco\, MO. 63874
SUMMARY:Worship
URL;VALUE=URI:https://pvgbc.church/events/worship/2026-11-01
ATTACH;FILENAME=worship.jpg;FMTTYPE=image/jpeg:https://dq5pwpg1q8ru0.cloudf
 ront.net/2021/10/14/12/20/58/05e5eb37-e4be-4e5a-84af-d3411904c1d7/worship.
 jpg
END:VEVENT
END:VCALENDAR
